
BEGIN:VCALENDAR
METHOD:PUBLISH
VERSION:2.0
PRODID:-//hacksw/handcal//NONSGML v1.0//EN
BEGIN:VEVENT
DTSTAMP:20260423T144057
DTSTART:20260509T190000
DTEND:20260510T000000
UID:20260509T190000-20260510T000000-306@www.schafkopffreunde-neuburg.de
SUMMARY:Öffentliche Schafkopfrunde
DESCRIPTION:+++ Öffentliche Schafkopfrunde am 09.Mai 2026 ab 19:00 Uhr +++
URL:https://www.schafkopffreunde-neuburg.de/aktuelles/
ATTACH:https://www.schafkopffreunde-neuburg.de/aktuelles/
LOCATION:Gaststätte Pfafflinger, Schrannenplatz C 131, Neuburg/Donau
END:VEVENT
BEGIN:VEVENT
DTSTAMP:20260423T144057
DTSTART:20260613T190000
DTEND:20260614T000000
UID:20260613T190000-20260614T000000-307@www.schafkopffreunde-neuburg.de
SUMMARY:Öffentliche Schafkopfrunde
DESCRIPTION:+++ Öffentliche Schafkopfrunde am 13.Juni 2026 ab 19:00 Uhr +++
URL:https://www.schafkopffreunde-neuburg.de/aktuelles/
ATTACH:https://www.schafkopffreunde-neuburg.de/aktuelles/
LOCATION:Gaststätte Pfafflinger, Schrannenplatz C 131, Neuburg/Donau
END:VEVENT
BEGIN:VEVENT
DTSTAMP:20260423T144057
DTSTART:20260627T160000
DTEND:20260628T010000
UID:20260627T160000-20260628T010000-320@www.schafkopffreunde-neuburg.de
SUMMARY:Sommerfest mit OpenAir Turnier
DESCRIPTION:+++ Sommerfest mit OpenAir Turnier am 27.Juni 2026 ab 16:00 Uhr +++
URL:https://www.schafkopffreunde-neuburg.de/aktuelles/
ATTACH:https://www.schafkopffreunde-neuburg.de/aktuelles/
LOCATION:Sehensander Steinbruch, Sehensander Weg, Sehensand
END:VEVENT
BEGIN:VEVENT
DTSTAMP:20260423T144057
DTSTART:20260711T190000
DTEND:20260712T000000
UID:20260711T190000-20260712T000000-308@www.schafkopffreunde-neuburg.de
SUMMARY:Öffentliche Schafkopfrunde
DESCRIPTION:+++ Öffentliche Schafkopfrunde am 11.Juli 2026 ab 19:00 Uhr +++
URL:https://www.schafkopffreunde-neuburg.de/aktuelles/
ATTACH:https://www.schafkopffreunde-neuburg.de/aktuelles/
LOCATION:Gaststätte Pfafflinger, Schrannenplatz C 131, Neuburg/Donau
END:VEVENT
BEGIN:VEVENT
DTSTAMP:20260423T144057
DTSTART:20260724T160000
DTEND:20260724T203000
UID:20260724T160000-20260724T203000-309@www.schafkopffreunde-neuburg.de
SUMMARY:Volksfesteinzug
DESCRIPTION:+++ Volksfesteinzug am 24.Juli 2026 ab 16:00 Uhr +++
URL:https://www.schafkopffreunde-neuburg.de/aktuelles/
ATTACH:https://www.schafkopffreunde-neuburg.de/aktuelles/
LOCATION:Schrannenplatz, Schrannenplatz, Neuburg/Donau
END:VEVENT
BEGIN:VEVENT
DTSTAMP:20260423T144057
DTSTART:20260808T190000
DTEND:20260809T000000
UID:20260808T190000-20260809T000000-310@www.schafkopffreunde-neuburg.de
SUMMARY:[ENTFÄLLT] Öffentliche Schafkopfrunde
DESCRIPTION:+++ [ENTFÄLLT] Öffentliche Schafkopfrunde am 08.August 2026 ab 19:00 Uhr +++
URL:https://www.schafkopffreunde-neuburg.de/aktuelles/
ATTACH:https://www.schafkopffreunde-neuburg.de/aktuelles/
LOCATION:Gaststätte Pfafflinger, Schrannenplatz C 131, Neuburg/Donau
END:VEVENT
BEGIN:VEVENT
DTSTAMP:20260423T144057
DTSTART:20260912T190000
DTEND:20260913T000000
UID:20260912T190000-20260913T000000-311@www.schafkopffreunde-neuburg.de
SUMMARY:Öffentliche Schafkopfrunde
DESCRIPTION:+++ Öffentliche Schafkopfrunde am 12.September 2026 ab 19:00 Uhr +++
URL:https://www.schafkopffreunde-neuburg.de/aktuelles/
ATTACH:https://www.schafkopffreunde-neuburg.de/aktuelles/
LOCATION:Gaststätte Pfafflinger, Schrannenplatz C 131, Neuburg/Donau
END:VEVENT
BEGIN:VEVENT
DTSTAMP:20260423T144057
DTSTART:20261010T190000
DTEND:20261011T000000
UID:20261010T190000-20261011T000000-312@www.schafkopffreunde-neuburg.de
SUMMARY:14. Großes Preisschafkopfen
DESCRIPTION:+++ 14. Großes Preisschafkopfen am 10.Oktober 2026 ab 19:00 Uhr +++
URL:https://www.schafkopffreunde-neuburg.de/aktuelles/
ATTACH:https://www.schafkopffreunde-neuburg.de/aktuelles/
LOCATION:Gaststätte Pfafflinger, Schrannenplatz C 131, Neuburg/Donau
END:VEVENT
BEGIN:VEVENT
DTSTAMP:20260423T144057
DTSTART:20261114T190000
DTEND:20261115T000000
UID:20261114T190000-20261115T000000-313@www.schafkopffreunde-neuburg.de
SUMMARY:Öffentliche Schafkopfrunde
DESCRIPTION:+++ Öffentliche Schafkopfrunde am 14.November 2026 ab 19:00 Uhr +++
URL:https://www.schafkopffreunde-neuburg.de/aktuelles/
ATTACH:https://www.schafkopffreunde-neuburg.de/aktuelles/
LOCATION:Gaststätte Pfafflinger, Schrannenplatz C 131, Neuburg/Donau
END:VEVENT
BEGIN:VEVENT
DTSTAMP:20260423T144057
DTSTART:20261212T190000
DTEND:20261213T000000
UID:20261212T190000-20261213T000000-314@www.schafkopffreunde-neuburg.de
SUMMARY:Weihnachtsfeier
DESCRIPTION:+++ Weihnachtsfeier am 12.Dezember 2026 ab 19:00 Uhr +++
URL:https://www.schafkopffreunde-neuburg.de/aktuelles/
ATTACH:https://www.schafkopffreunde-neuburg.de/aktuelles/
LOCATION:Gaststätte Pfafflinger, Schrannenplatz C 131, Neuburg/Donau
END:VEVENT
BEGIN:VEVENT
DTSTAMP:20260423T144057
DTSTART:20270109T190000
DTEND:20270110T233000
UID:20270109T190000-20270110T233000-315@www.schafkopffreunde-neuburg.de
SUMMARY:Öffentliche Schafkopfrunde
DESCRIPTION:+++ Öffentliche Schafkopfrunde am 09.Januar 2027 ab 19:00 Uhr +++
URL:https://www.schafkopffreunde-neuburg.de/aktuelles/
ATTACH:https://www.schafkopffreunde-neuburg.de/aktuelles/
LOCATION:Gaststätte Pfafflinger, Schrannenplatz C 131, Neuburg/Donau
END:VEVENT
BEGIN:VEVENT
DTSTAMP:20260423T144057
DTSTART:20270130T113000
DTEND:20270131T010000
UID:20270130T113000-20270131T010000-316@www.schafkopffreunde-neuburg.de
SUMMARY:Donauschwimmen
DESCRIPTION:+++ Donauschwimmen am 30.Januar 2027 ab 11:30 Uhr +++
URL:https://www.schafkopffreunde-neuburg.de/aktuelles/
ATTACH:https://www.schafkopffreunde-neuburg.de/aktuelles/
LOCATION:Parkbad, Ludwig-Thoma-Platz 1, Neuburg/Donau
END:VEVENT
BEGIN:VEVENT
DTSTAMP:20260423T144057
DTSTART:20270213T190000
DTEND:20270214T233000
UID:20270213T190000-20270214T233000-319@www.schafkopffreunde-neuburg.de
SUMMARY:Öffentliche Schafkopfrunde
DESCRIPTION:+++ Öffentliche Schafkopfrunde am 13.Februar 2027 ab 19:00 Uhr +++
URL:https://www.schafkopffreunde-neuburg.de/aktuelles/
ATTACH:https://www.schafkopffreunde-neuburg.de/aktuelles/
LOCATION:Gaststätte Pfafflinger, Schrannenplatz C 131, Neuburg/Donau
END:VEVENT
BEGIN:VEVENT
DTSTAMP:20260423T144057
DTSTART:20270313T183000
DTEND:20270314T000000
UID:20270313T183000-20270314T000000-318@www.schafkopffreunde-neuburg.de
SUMMARY:Jahreshauptversammlung
DESCRIPTION:+++ Jahreshauptversammlung am 13.März 2027 ab 18:30 Uhr +++
URL:https://www.schafkopffreunde-neuburg.de/aktuelles/
ATTACH:https://www.schafkopffreunde-neuburg.de/aktuelles/
LOCATION:Gaststätte Pfafflinger, Schrannenplatz C 131, Neuburg/Donau
END:VEVENT
END:VCALENDAR
